BEGIN:VCALENDAR
VERSION:2.0
PRODID:-//Family Help Center - ECPv5.16.3.1//NONSGML v1.0//EN
CALSCALE:GREGORIAN
METHOD:PUBLISH
X-WR-CALNAME:Family Help Center
X-ORIGINAL-URL:https://familyhelpcenter.net
X-WR-CALDESC:Events for Family Help Center
BEGIN:VTIMEZONE
TZID:America/New_York
BEGIN:DAYLIGHT
TZOFFSETFROM:-0500
TZOFFSETTO:-0400
TZNAME:EDT
DTSTART:20230312T070000
END:DAYLIGHT
BEGIN:STANDARD
TZOFFSETFROM:-0400
TZOFFSETTO:-0500
TZNAME:EST
DTSTART:20231105T060000
END:STANDARD
END:VTIMEZONE
BEGIN:VEVENT
DTSTART;TZID=America/New_York:20230607T173000
DTEND;TZID=America/New_York:20230607T193000
DTSTAMP:20260425T161451
CREATED:20230413T164905Z
LAST-MODIFIED:20230413T164905Z
UID:1555-1686159000-1686166200@familyhelpcenter.net
SUMMARY:Women in Leadership Celebration Annual Auction and Officer Induction
DESCRIPTION:FacebookGoogleTwitterLinkedin
URL:https://familyhelpcenter.net/event/women-in-leadership-celebration-annual-auction-and-officer-induction/
LOCATION:Rizotto’s Restaurant\, 930 Maple Road\, Amherst\, NY\, 14221\, United States
END:VEVENT
END:VCALENDAR