BEGIN:VCALENDAR
VERSION:2.0
PRODID:-//Family Help Center - ECPv5.16.3.1//NONSGML v1.0//EN
CALSCALE:GREGORIAN
METHOD:PUBLISH
X-WR-CALNAME:Family Help Center
X-ORIGINAL-URL:https://familyhelpcenter.net
X-WR-CALDESC:Events for Family Help Center
BEGIN:VTIMEZONE
TZID:UTC
BEGIN:STANDARD
TZOFFSETFROM:+0000
TZOFFSETTO:+0000
TZNAME:UTC
DTSTART:20170101T000000
END:STANDARD
END:VTIMEZONE
BEGIN:VEVENT
DTSTART;TZID=UTC:20170401T000000
DTEND;TZID=UTC:20170430T235500
DTSTAMP:20260419T193145
CREATED:20170326T023125Z
LAST-MODIFIED:20170405T185333Z
UID:873-1491004800-1493596500@familyhelpcenter.net
SUMMARY:April is National Child Abuse Prevention Month!
DESCRIPTION:Please support us during Child Abuse Prevention month by wearing a blue beaded wish bracelet created and donated by Whimzies.  To receive your wish bracelet\, contact us at (716) 822-0919\, email us at info@familyhelpcenter.net or post your request on our Facebook page https://www.facebook.com/FHCFamilyHelpCenter and we will mail you the number of bracelets requested.  We ask that you consider a $5 donation for each wish bracelet.  When you receive your bracelet\, please complete “My wish for children is” on the card included and return it to us at Family Help Center (60 Dingens Street\, Buffalo\, NY 14206).  All wishes will be laminated and hung on a community fence outside of the Family Help Center.   \nWish bracelets will also be available at the following: \n\nAdam’s Apples’ stand at the Broadway Market. Visit their website at https://www.adamsapplesny.com or their Facebook page at https://www.facebook.com/Adams-Apples-110240129050429/\nBaker Victory School\nChild Care Resource Network\, 1000 Hertel Avenue\, Buffalo\, NY\, 716-877-6666  (http://www.wnychildren.org) \nCrisis Services\, 2969 Main Street\, Buffalo\, NY  14214\, 716-834-2310  (http://crisisservices.org)\nEvery Person Influences Children (EPIC)\, 1000 Main Street\, Buffalo\, NY  14202\, 716-332-4100  (https://www.epicforchildren.org)\nFit Physique\, 2827 Delaware Avenue\, Kenmore\, NY  14217\, 716-877-1105   (http://www.thefitphysique.net)\nLarkinville – Food Truck Tuesday\nPhillips Lytle LLP\, 125 Main Street\, Buffalo\, NY 14203\, 716-847-8400   (www.phillipslytle.com) \nWalden Galleria Mall on Saturday\, April 8th\, from 11 AM to 5 PM.\nWestern New York Foster and Adoptive Families Association has generously offered to hold the kick off sale during their annual spring training on Saturday\, April 1st\, at Renovation Auditorium\, 567 Hertel Avenue\, Buffalo\, NY 14207 from 9 AM to 1 PM. Details about the training are available by contacting (716) 858-1630 or wnyfafa@gmail.com\n\n  \nAll proceeds will benefit the Family Help Center in our mission to provide free support to families and safety to children when parenting gets tough\, 24 hours\, 7 days a week.  Thank you for your support!  Please remember our most vulnerable children! \n#thisismywish \nFacebookGoogleTwitterLinkedin
URL:https://familyhelpcenter.net/event/april-is-national-child-abuse-prevention-month/
ATTACH;FMTTYPE=image/jpeg:https://familyhelpcenter.net/wp-content/uploads/2017/03/17458002_912550972181554_8563006895358739286_n-1.jpg
END:VEVENT
END:VCALENDAR